BEGIN:VCALENDAR
VERSION:2.0
PRODID:-//5.44.111.183//NONSGML kigkonsult.se iCalcreator 2.20//
CALSCALE:GREGORIAN
METHOD:PUBLISH
X-WR-TIMEZONE:Europe/Berlin
BEGIN:VEVENT
UID:event1949@Courage  e.V. Neu Wulmstorf
DTSTAMP:20260423T115842Z
CATEGORIES:Kurse
DESCRIPTION:Yoga\nKategorie: Kurse\nICS-Link: https://courage-neu-wulmstorf
 .de/index.php?option=com_jem&view=event&id=1949:yoga\n
DTSTART;TZID=Europe/Berlin:20260427T090000
DTEND;TZID=Europe/Berlin:20260427T103000
SUMMARY:Yoga
URL:https://courage-neu-wulmstorf.de/index.php?option=com_jem&view=event&id
 =1949:yoga
END:VEVENT
END:VCALENDAR