BEGIN:VCALENDAR
VERSION:2.0
PRODID:-//5.44.111.183//NONSGML kigkonsult.se iCalcreator 2.20//
CALSCALE:GREGORIAN
METHOD:PUBLISH
X-WR-TIMEZONE:Europe/Berlin
BEGIN:VEVENT
UID:event1929@Courage  e.V. Neu Wulmstorf
DTSTAMP:20260423T120819Z
CATEGORIES:Veranstaltung
DESCRIPTION:Spieletreff Neu Wulmstorf\nKategorie: Veranstaltung\nICS-Link: 
 https://courage-neu-wulmstorf.de/index.php?option=com_jem&view=event&id=19
 29:spieletreff\n
DTSTART;TZID=Europe/Berlin:20260424T180000
DTEND;TZID=Europe/Berlin:20260424T180000
SUMMARY:Spieletreff Neu Wulmstorf
URL:https://courage-neu-wulmstorf.de/index.php?option=com_jem&view=event&id
 =1929:spieletreff
END:VEVENT
END:VCALENDAR