BEGIN:VCALENDAR
VERSION:2.0
PRODID:-//5.44.111.183//NONSGML kigkonsult.se iCalcreator 2.20//
CALSCALE:GREGORIAN
METHOD:PUBLISH
X-WR-TIMEZONE:Europe/Berlin
BEGIN:VEVENT
UID:event1867@Courage  e.V. Neu Wulmstorf
DTSTAMP:20260419T140844Z
CATEGORIES:Kurse
DESCRIPTION:Sprachcafé zum Deutsch lernen\nKategorie: Kurse\nICS-Link: http
 s://courage-neu-wulmstorf.de/index.php?option=com_jem&view=event&id=1867:s
 prachcafe\n
DTSTART;TZID=Europe/Berlin:20260311T100000
DTEND;TZID=Europe/Berlin:20260311T120500
SUMMARY:Sprachcafé zum Deutsch lernen
URL:https://courage-neu-wulmstorf.de/index.php?option=com_jem&view=event&id
 =1867:sprachcafe
END:VEVENT
END:VCALENDAR