BEGIN:VCALENDAR
VERSION:2.0
PRODID:-//5.44.111.183//NONSGML kigkonsult.se iCalcreator 2.20//
CALSCALE:GREGORIAN
METHOD:PUBLISH
X-WR-TIMEZONE:Europe/Berlin
BEGIN:VEVENT
UID:event1825@Courage  e.V. Neu Wulmstorf
DTSTAMP:20260423T115724Z
CATEGORIES:Kurse
DESCRIPTION:Deutsch lernen im Sprachcafé\nKategorie: Kurse\nICS-Link: https
 ://courage-neu-wulmstorf.de/index.php?option=com_jem&view=event&id=1825:sp
 rachcafe\n
DTSTART;TZID=Europe/Berlin:20260428T100000
DTEND;TZID=Europe/Berlin:20260428T120500
SUMMARY:Deutsch lernen im Sprachcafé
URL:https://courage-neu-wulmstorf.de/index.php?option=com_jem&view=event&id
 =1825:sprachcafe
END:VEVENT
END:VCALENDAR