BEGIN:VCALENDAR
VERSION:2.0
PRODID:-//5.44.111.183//NONSGML kigkonsult.se iCalcreator 2.20//
CALSCALE:GREGORIAN
METHOD:PUBLISH
X-WR-TIMEZONE:Europe/Berlin
BEGIN:VEVENT
UID:event1656@Courage  e.V. Neu Wulmstorf
DTSTAMP:20260423T102945Z
CATEGORIES:Eltern-Kind-Treffen
DESCRIPTION:Kinderwagen-Café\nKategorie: Eltern-Kind-Treffen\nICS-Link: htt
 ps://courage-neu-wulmstorf.de/index.php?option=com_jem&view=event&id=1656:
 kinderwagen-cafe\n
DTSTART;TZID=Europe/Berlin:20260423T153000
DTEND;TZID=Europe/Berlin:20260423T173000
SUMMARY:Kinderwagen-Café
URL:https://courage-neu-wulmstorf.de/index.php?option=com_jem&view=event&id
 =1656:kinderwagen-cafe
END:VEVENT
END:VCALENDAR