BEGIN:VCALENDAR
VERSION:2.0
PRODID:-//5.44.111.183//NONSGML kigkonsult.se iCalcreator 2.20//
CALSCALE:GREGORIAN
METHOD:PUBLISH
X-WR-TIMEZONE:Europe/Berlin
BEGIN:VEVENT
UID:event1496@Courage  e.V. Neu Wulmstorf
DTSTAMP:20260421T141626Z
CATEGORIES:Gruppen
DESCRIPTION:Alleinerziehenden-Treff\nKategorie: Gruppen\nICS-Link: https://
 courage-neu-wulmstorf.de/index.php?option=com_jem&view=event&id=1496:allei
 nerziehend\n
DTSTART;TZID=Europe/Berlin:20260312T160000
DTEND;TZID=Europe/Berlin:20260312T173000
SUMMARY:Alleinerziehenden-Treff
URL:https://courage-neu-wulmstorf.de/index.php?option=com_jem&view=event&id
 =1496:alleinerziehend
END:VEVENT
END:VCALENDAR